BEGIN:VCALENDAR
PRODID:-//eluceo/ical//2.0/EN
VERSION:2.0
CALSCALE:GREGORIAN
BEGIN:VEVENT
UID:49e7faa7ce6f345d481c17657ea4f9b5
DTSTAMP:20260422T044009Z
SUMMARY:[männliche E-Jugend Runde] CVJM Enzweihingen  - CVJM HB Dußlingen
 -Gomaringen 1
URL:https://www.eichenkreuzliga.de/handball/game/id/10058
DTSTART:20200307T140000
DTEND:20200307T150000
LOCATION:Schulsporthalle\, 71665 Enzweihingen
END:VEVENT
BEGIN:VEVENT
UID:034dbc91be3c39a0a82ef2bc53ff0f19
DTSTAMP:20260422T044009Z
SUMMARY:[männliche E-Jugend Runde] CVJM Enzweihingen  - CVJM HB Dußlingen
 -Gomaringen 2 A.K.
URL:https://www.eichenkreuzliga.de/handball/game/id/10059
DTSTART:20200307T154500
DTEND:20200307T164500
LOCATION:Schulsporthalle\, 71665 Enzweihingen
END:VEVENT
BEGIN:VEVENT
UID:79cdb114a2263eb51211ab32a3aa8aba
DTSTAMP:20260422T044009Z
SUMMARY:[männliche E-Jugend Runde] CVJM HB Dußlingen-Gomaringen 1 - EJW M
 ünchingen 
URL:https://www.eichenkreuzliga.de/handball/game/id/10060
DTSTART:20200307T151500
DTEND:20200307T161500
LOCATION:Schulsporthalle\, 71665 Enzweihingen
END:VEVENT
BEGIN:VEVENT
UID:0189673baea77ee49878287b91206542
DTSTAMP:20260422T044009Z
SUMMARY:[männliche E-Jugend Runde] CVJM HB Dußlingen-Gomaringen 2 A.K. - 
 EJW Münchingen 
URL:https://www.eichenkreuzliga.de/handball/game/id/10061
DTSTART:20200307T143000
DTEND:20200307T153000
LOCATION:Schulsporthalle\, 71665 Enzweihingen
END:VEVENT
BEGIN:VEVENT
UID:8d770ed61c35dadb6dd9ffa71d4e6b23
DTSTAMP:20260422T044009Z
SUMMARY:[Männer LK 4] CVJM Enzweihingen 1b - CVJM HB Dußlingen-Gomaringen
  2
URL:https://www.eichenkreuzliga.de/handball/game/id/11025
DTSTART:20200307T170000
DTEND:20200307T180000
LOCATION:Schulsporthalle\, 71665 Enzweihingen
END:VEVENT
BEGIN:VEVENT
UID:031ed67cdb41dc7471fdc558de97c0f8
DTSTAMP:20260422T044009Z
SUMMARY:[ ]   -  
URL:https://www.eichenkreuzliga.de/handball/game/id/11060
DTSTART:20200307T150000
DTEND:20200307T160000
LOCATION:Schulsporthalle\, 71665 Enzweihingen
END:VEVENT
BEGIN:VEVENT
UID:da31a7c77685d54fedb5258864d624c3
DTSTAMP:20260422T044009Z
SUMMARY:[Männer LK 3] CVJM Enzweihingen  - CVJM Kirchentellinsfurt 1b
URL:https://www.eichenkreuzliga.de/handball/game/id/11070
DTSTART:20200307T183000
DTEND:20200307T193000
LOCATION:Schulsporthalle\, 71665 Enzweihingen
END:VEVENT
END:VCALENDAR
