BEGIN:VCALENDAR
PRODID:-//eluceo/ical//2.0/EN
VERSION:2.0
CALSCALE:GREGORIAN
BEGIN:VEVENT
UID:6215123a1abee435d44025b894accdf2
DTSTAMP:20260422T092158Z
SUMMARY:[Frauen Landesliga] CVJM Möglingen  - CVJM SG Mössingen/Belsen 
URL:https://www.eichenkreuzliga.de/handball/game/id/9864
DTSTART:20200314T163000
DTEND:20200314T173000
LOCATION:Sporthalle\, 72138 Kirchentellinsfurt
END:VEVENT
BEGIN:VEVENT
UID:81bc7c42805fa991543395e683739a5b
DTSTAMP:20260422T092158Z
SUMMARY:[männliche A-Jugend Runde] CVJM Kirchentellinsfurt  - EK Höfingen
  
URL:https://www.eichenkreuzliga.de/handball/game/id/10769
DTSTART:20200314T150000
DTEND:20200314T160000
LOCATION:Sporthalle\, 72138 Kirchentellinsfurt
END:VEVENT
BEGIN:VEVENT
UID:0c0a00bb718b3732cd6abf8681a2fd21
DTSTAMP:20260422T092158Z
SUMMARY:[weibliche C-Jugend Runde] CVJM Kirchentellinsfurt  - EJW Münching
 en 
URL:https://www.eichenkreuzliga.de/handball/game/id/10810
DTSTART:20200314T133000
DTEND:20200314T143000
LOCATION:Sporthalle\, 72138 Kirchentellinsfurt
END:VEVENT
END:VCALENDAR
