BEGIN:VCALENDAR
PRODID:-//eluceo/ical//2.0/EN
VERSION:2.0
CALSCALE:GREGORIAN
BEGIN:VEVENT
UID:998cb88654e004214eef4f61ac749bf4
DTSTAMP:20260422T083615Z
SUMMARY:[männliche C-Jugend Runde] CVJM Untertürkheim  - EJW Münchingen 
URL:https://www.eichenkreuzliga.de/handball/game/id/10359
DTSTART:20200321T140000
DTEND:20200321T150000
LOCATION:Lindenschul-Sporthalle Untertürkheim\, 70327 Untertürkheim
END:VEVENT
END:VCALENDAR
