BEGIN:VCALENDAR
PRODID:-//eluceo/ical//2.0/EN
VERSION:2.0
CALSCALE:GREGORIAN
BEGIN:VEVENT
UID:1fe3a25309598db36ee96d27bb950f57
DTSTAMP:20260422T092111Z
SUMMARY:[weibliche E-Jugend Runde] CVJM SG Mössingen/Belsen  - CVJM Kirche
 ntellinsfurt 
URL:https://www.eichenkreuzliga.de/handball/game/id/9781
DTSTART:20200328T140000
DTEND:20200328T150000
LOCATION:Jahnhalle 2\, 72116 Mössingen
END:VEVENT
BEGIN:VEVENT
UID:ec5bf70be30041badfad28f93fb08728
DTSTAMP:20260422T092111Z
SUMMARY:[weibliche E-Jugend Runde] EK Bernhausen  - CVJM HB Dußlingen-Goma
 ringen 1
URL:https://www.eichenkreuzliga.de/handball/game/id/9782
DTSTART:20200328T123500
DTEND:20200328T133500
LOCATION:Jahnhalle 2\, 72116 Mössingen
END:VEVENT
BEGIN:VEVENT
UID:544bd668ec240a17ee017bb0ceac9645
DTSTAMP:20260422T092111Z
SUMMARY:[weibliche E-Jugend Runde] CVJM Kirchentellinsfurt  - CVJM HB Dußl
 ingen-Gomaringen 1
URL:https://www.eichenkreuzliga.de/handball/game/id/9783
DTSTART:20200328T132000
DTEND:20200328T142000
LOCATION:Jahnhalle 2\, 72116 Mössingen
END:VEVENT
BEGIN:VEVENT
UID:4dd50fe160fbce0594b74487fa730c7a
DTSTAMP:20260422T092111Z
SUMMARY:[weibliche E-Jugend Runde] CVJM SG Mössingen/Belsen  - EK Bernhaus
 en 
URL:https://www.eichenkreuzliga.de/handball/game/id/9784
DTSTART:20200328T120000
DTEND:20200328T130000
LOCATION:Jahnhalle 2\, 72116 Mössingen
END:VEVENT
BEGIN:VEVENT
UID:b5d1e5345b195e3215220795f6bf65a6
DTSTAMP:20260422T092111Z
SUMMARY:[ ]   -  
URL:https://www.eichenkreuzliga.de/handball/game/id/9785
DTSTART:20200328T130500
DTEND:20200328T140500
LOCATION:Jahnhalle 2\, 72116 Mössingen
END:VEVENT
BEGIN:VEVENT
UID:f03b45520f83a6551ab4d55d6957db5a
DTSTAMP:20260422T092111Z
SUMMARY:[ ]   -  
URL:https://www.eichenkreuzliga.de/handball/game/id/9786
DTSTART:20200328T142500
DTEND:20200328T152500
LOCATION:Jahnhalle 2\, 72116 Mössingen
END:VEVENT
BEGIN:VEVENT
UID:993d758a3acddd78eccd9c00dfdbcccd
DTSTAMP:20260422T092111Z
SUMMARY:[Frauen Landesliga] CVJM SG Mössingen/Belsen  - HSG Schönbuch 
URL:https://www.eichenkreuzliga.de/handball/game/id/9873
DTSTART:20200328T153000
DTEND:20200328T163000
LOCATION:Jahnhalle 2\, 72116 Mössingen
END:VEVENT
BEGIN:VEVENT
UID:1e8f541b4cd925287d2a93dfc92842ba
DTSTAMP:20260422T092111Z
SUMMARY:[ ]   -  
URL:https://www.eichenkreuzliga.de/handball/game/id/10530
DTSTART:20200328T164500
DTEND:20200328T174500
LOCATION:Jahnhalle 2\, 72116 Mössingen
END:VEVENT
BEGIN:VEVENT
UID:8f4b6427498606b14ec7aa523837f500
DTSTAMP:20260422T092111Z
SUMMARY:[Männer Landesliga Finalspiele] EK Höfingen  - CVJM Möglingen 
URL:https://www.eichenkreuzliga.de/handball/game/id/11042
DTSTART:20200328T170000
DTEND:20200328T180000
LOCATION:Jahnhalle 2\, 72116 Mössingen
END:VEVENT
BEGIN:VEVENT
UID:451331bf348c6e3fa235cb20abefae61
DTSTAMP:20260422T092111Z
SUMMARY:[Männer Landesliga Finalspiele] EK Testverein  - EK Testverein 
URL:https://www.eichenkreuzliga.de/handball/game/id/11043
DTSTART:20200328T183000
DTEND:20200328T193000
LOCATION:Jahnhalle 2\, 72116 Mössingen
END:VEVENT
BEGIN:VEVENT
UID:9065c8c9fd6f34112f2020bfb80b3d88
DTSTAMP:20260422T092111Z
SUMMARY:[Männer Landesliga Finalspiele] EK Testverein  - EK Testverein 
URL:https://www.eichenkreuzliga.de/handball/game/id/11044
DTSTART:20200328T200000
DTEND:20200328T210000
LOCATION:Jahnhalle 2\, 72116 Mössingen
END:VEVENT
END:VCALENDAR
