BEGIN:VCALENDAR
PRODID:-//eluceo/ical//2.0/EN
VERSION:2.0
CALSCALE:GREGORIAN
BEGIN:VEVENT
UID:381534f56b27c1bf2828480df66f438c
DTSTAMP:20260422T101559Z
SUMMARY:[weibliche C-Jugend Runde] EJW Münchingen  - CVJM SG Mössingen/Be
 lsen 
URL:https://www.eichenkreuzliga.de/handball/game/id/10806
DTSTART:20200329T140000
DTEND:20200329T150000
LOCATION:Sporthalle Münchingen\, 70825 Korntal-Münchingen
END:VEVENT
BEGIN:VEVENT
UID:5e410f22da835bb91edbf6cd8c75001a
DTSTAMP:20260422T101559Z
SUMMARY:[Männer LK 3] EJW Münchingen  - CVJM Plochingen 
URL:https://www.eichenkreuzliga.de/handball/game/id/10986
DTSTART:20200329T160000
DTEND:20200329T170000
LOCATION:Sporthalle Münchingen\, 70825 Korntal-Münchingen
END:VEVENT
END:VCALENDAR
