BEGIN:VCALENDAR
PRODID:-//eluceo/ical//2.0/EN
VERSION:2.0
CALSCALE:GREGORIAN
BEGIN:VEVENT
UID:8704886c258c7f885c22471636343eb3
DTSTAMP:20260422T055856Z
SUMMARY:[Männer LK 3] EK Wolfschlugen  - CVJM Kirchentellinsfurt 1b
URL:https://www.eichenkreuzliga.de/handball/game/id/10993
DTSTART:20200329T180000
DTEND:20200329T190000
LOCATION:Sporthalle Herdhau\, 72649 Wolfschlugen
END:VEVENT
END:VCALENDAR
