BEGIN:VCALENDAR
PRODID:-//eluceo/ical//2.0/EN
VERSION:2.0
CALSCALE:GREGORIAN
BEGIN:VEVENT
UID:71fdb6a4cd46896a133a864212a9ed6e
DTSTAMP:20260422T084536Z
SUMMARY:[männliche E-Jugend Runde] CVJM Hülben  - CVJM Kusterdingen e.V. 
URL:https://www.eichenkreuzliga.de/handball/game/id/9975
DTSTART:20191019T133000
DTEND:20191019T143000
LOCATION:Falkensteinhalle\, 72582 Grabenstetten
END:VEVENT
BEGIN:VEVENT
UID:0b3d62742ff825e81b71844e39574a8a
DTSTAMP:20260422T084536Z
SUMMARY:[männliche E-Jugend Runde] CVJM Kusterdingen e.V.  - EJW Münching
 en 
URL:https://www.eichenkreuzliga.de/handball/game/id/9976
DTSTART:20191019T144500
DTEND:20191019T154500
LOCATION:Falkensteinhalle\, 72582 Grabenstetten
END:VEVENT
BEGIN:VEVENT
UID:52ca9f17d1705d55b8145cd85a52e40f
DTSTAMP:20260422T084536Z
SUMMARY:[männliche E-Jugend Runde] CVJM Hülben  - CVJM Fellbach 
URL:https://www.eichenkreuzliga.de/handball/game/id/9977
DTSTART:20191019T151500
DTEND:20191019T161500
LOCATION:Falkensteinhalle\, 72582 Grabenstetten
END:VEVENT
BEGIN:VEVENT
UID:7a14824d85b32fe8a86c3e707bcf5826
DTSTAMP:20260422T084536Z
SUMMARY:[männliche E-Jugend Runde] CVJM Fellbach  - EJW Münchingen 
URL:https://www.eichenkreuzliga.de/handball/game/id/9978
DTSTART:20191019T140000
DTEND:20191019T150000
LOCATION:Falkensteinhalle\, 72582 Grabenstetten
END:VEVENT
BEGIN:VEVENT
UID:898c0854c4f8b4188fb8bf58acb8d61e
DTSTAMP:20260422T084536Z
SUMMARY:[Männer LK 2] CVJM Hülben  - CVJM Flacht 
URL:https://www.eichenkreuzliga.de/handball/game/id/10534
DTSTART:20191019T174500
DTEND:20191019T184500
LOCATION:Falkensteinhalle\, 72582 Grabenstetten
END:VEVENT
BEGIN:VEVENT
UID:1747d14de4863996656092861094b637
DTSTAMP:20260422T084536Z
SUMMARY:[weibliche B-Jugend Runde] CVJM Hülben  - EK Bernhausen 
URL:https://www.eichenkreuzliga.de/handball/game/id/10634
DTSTART:20191019T161500
DTEND:20191019T171500
LOCATION:Falkensteinhalle\, 72582 Grabenstetten
END:VEVENT
BEGIN:VEVENT
UID:2710dda73afa6bec40fa546905db9902
DTSTAMP:20260422T084536Z
SUMMARY:[ ]   -  
URL:https://www.eichenkreuzliga.de/handball/game/id/11062
DTSTART:20191019T143000
DTEND:20191019T153000
LOCATION:Falkensteinhalle\, 72582 Grabenstetten
END:VEVENT
END:VCALENDAR
