BEGIN:VCALENDAR
PRODID:-//eluceo/ical//2.0/EN
VERSION:2.0
CALSCALE:GREGORIAN
BEGIN:VEVENT
UID:d0d0ed22bca4723a4e531bfe626937d6
DTSTAMP:20260422T101353Z
SUMMARY:[männliche E-Jugend Runde] EK Bernhausen 1 - CVJM HB Dußlingen-Go
 maringen 1
URL:https://www.eichenkreuzliga.de/handball/game/id/10086
DTSTART:20200125T130000
DTEND:20200125T140000
LOCATION:Falkensteinhalle\, 72582 Grabenstetten
END:VEVENT
BEGIN:VEVENT
UID:f6aaa1de470554ecb0a2b0cc5dc64ac5
DTSTAMP:20260422T101353Z
SUMMARY:[männliche E-Jugend Runde] EK Bernhausen 1 - CVJM HB Dußlingen-Go
 maringen 2 A.K.
URL:https://www.eichenkreuzliga.de/handball/game/id/10087
DTSTART:20200125T133000
DTEND:20200125T143000
LOCATION:Falkensteinhalle\, 72582 Grabenstetten
END:VEVENT
BEGIN:VEVENT
UID:cb3e7885f5b387cf018bb0eb46a3c410
DTSTAMP:20260422T101353Z
SUMMARY:[männliche E-Jugend Runde] CVJM Hülben  - CVJM HB Dußlingen-Goma
 ringen 1
URL:https://www.eichenkreuzliga.de/handball/game/id/10088
DTSTART:20200125T140000
DTEND:20200125T150000
LOCATION:Falkensteinhalle\, 72582 Grabenstetten
END:VEVENT
BEGIN:VEVENT
UID:71c689e37422d003e5f6cdbb4f745856
DTSTAMP:20260422T101353Z
SUMMARY:[männliche E-Jugend Runde] CVJM Hülben  - CVJM HB Dußlingen-Goma
 ringen 2 A.K.
URL:https://www.eichenkreuzliga.de/handball/game/id/10089
DTSTART:20200125T123000
DTEND:20200125T133000
LOCATION:Falkensteinhalle\, 72582 Grabenstetten
END:VEVENT
BEGIN:VEVENT
UID:23a8eb9d0247097fc7b21b652353047f
DTSTAMP:20260422T101353Z
SUMMARY:[ ]   -  
URL:https://www.eichenkreuzliga.de/handball/game/id/10251
DTSTART:20200125T131500
DTEND:20200125T141500
LOCATION:Falkensteinhalle\, 72582 Grabenstetten
END:VEVENT
BEGIN:VEVENT
UID:e6ff13dd7a8edb43a64994857274cf73
DTSTAMP:20260422T101353Z
SUMMARY:[Männer LK 2] CVJM Hülben  - EK Köngen 1b
URL:https://www.eichenkreuzliga.de/handball/game/id/10600
DTSTART:20200125T180000
DTEND:20200125T190000
LOCATION:Falkensteinhalle\, 72582 Grabenstetten
END:VEVENT
BEGIN:VEVENT
UID:bf2089d3d4a34a1ac3a334993fe71eb7
DTSTAMP:20260422T101353Z
SUMMARY:[weibliche A-Jugend Runde] CVJM Hülben  - CVJM  Walddorfhäslach 
URL:https://www.eichenkreuzliga.de/handball/game/id/10617
DTSTART:20200125T163000
DTEND:20200125T173000
LOCATION:Falkensteinhalle\, 72582 Grabenstetten
END:VEVENT
BEGIN:VEVENT
UID:d9bb5cd07fb664a1965bc173993383e7
DTSTAMP:20260422T101353Z
SUMMARY:[weibliche B-Jugend Runde] CVJM Hülben  - CVJM HB Dußlingen-Gomar
 ingen 
URL:https://www.eichenkreuzliga.de/handball/game/id/10641
DTSTART:20200125T150000
DTEND:20200125T160000
LOCATION:Falkensteinhalle\, 72582 Grabenstetten
END:VEVENT
END:VCALENDAR
