BEGIN:VCALENDAR
PRODID:-//eluceo/ical//2.0/EN
VERSION:2.0
CALSCALE:GREGORIAN
BEGIN:VEVENT
UID:c8659a676e239f6b8f0e38a79df33436
DTSTAMP:20260422T083649Z
SUMMARY:[Männer LK 2] CVJM Flacht  - CVJM Hagelloch - Kusterdingen 1
URL:https://www.eichenkreuzliga.de/handball/game/id/10542
DTSTART:20191012T180000
DTEND:20191012T190000
LOCATION:Sporthalle Flacht\, 71287 Weissach
END:VEVENT
BEGIN:VEVENT
UID:f5d5993707220fe2be9ec321566033da
DTSTAMP:20260422T083649Z
SUMMARY:[männliche B-Jugend Runde] CVJM Flacht  - EK Bernhausen 
URL:https://www.eichenkreuzliga.de/handball/game/id/10738
DTSTART:20191012T160000
DTEND:20191012T170000
LOCATION:Sporthalle Flacht\, 71287 Weissach
END:VEVENT
END:VCALENDAR
