BEGIN:VCALENDAR
PRODID:-//eluceo/ical//2.0/EN
VERSION:2.0
CALSCALE:GREGORIAN
BEGIN:VEVENT
UID:506e59c0486e5451a5413209f3f8177d
DTSTAMP:20260422T101359Z
SUMMARY:[ ]   -  
URL:https://www.eichenkreuzliga.de/handball/game/id/9689
DTSTART:20191019T194500
DTEND:20191019T204500
LOCATION:Elisabeth-Selbert-Gymnasium Halle\, 70794 Bernhausen
END:VEVENT
BEGIN:VEVENT
UID:9de3f473a6de6c7b8b102002f5c04bee
DTSTAMP:20260422T101359Z
SUMMARY:[weibliche E-Jugend Runde] EK Bernhausen  - CVJM Kirchentellinsfurt
  
URL:https://www.eichenkreuzliga.de/handball/game/id/9764
DTSTART:20191019T120000
DTEND:20191019T130000
LOCATION:Elisabeth-Selbert-Gymnasium Halle\, 70794 Bernhausen
END:VEVENT
BEGIN:VEVENT
UID:d23bec0f6ca0ae25ece1444677367ac9
DTSTAMP:20260422T101359Z
SUMMARY:[weibliche E-Jugend Runde] CVJM HB Dußlingen-Gomaringen 1 - CVJM S
 G Mössingen/Belsen 
URL:https://www.eichenkreuzliga.de/handball/game/id/9765
DTSTART:20191019T000000
DTEND:20191019T010000
LOCATION:Elisabeth-Selbert-Gymnasium Halle\, 70794 Bernhausen
END:VEVENT
BEGIN:VEVENT
UID:613c022aa68b128826e7c13201880cdc
DTSTAMP:20260422T101359Z
SUMMARY:[weibliche E-Jugend Runde] CVJM Kirchentellinsfurt  - CVJM SG Möss
 ingen/Belsen 
URL:https://www.eichenkreuzliga.de/handball/game/id/9766
DTSTART:20191019T000000
DTEND:20191019T010000
LOCATION:Elisabeth-Selbert-Gymnasium Halle\, 70794 Bernhausen
END:VEVENT
BEGIN:VEVENT
UID:64bef33f2bb566f988fca70b322e754d
DTSTAMP:20260422T101359Z
SUMMARY:[weibliche E-Jugend Runde] EK Bernhausen  - CVJM HB Dußlingen-Goma
 ringen 1
URL:https://www.eichenkreuzliga.de/handball/game/id/9767
DTSTART:20191019T124000
DTEND:20191019T134000
LOCATION:Elisabeth-Selbert-Gymnasium Halle\, 70794 Bernhausen
END:VEVENT
BEGIN:VEVENT
UID:2b3a429bb3e0f67c74c68fa684333d32
DTSTAMP:20260422T101359Z
SUMMARY:[ ]   -  
URL:https://www.eichenkreuzliga.de/handball/game/id/9768
DTSTART:20191019T130500
DTEND:20191019T140500
LOCATION:Elisabeth-Selbert-Gymnasium Halle\, 70794 Bernhausen
END:VEVENT
BEGIN:VEVENT
UID:5fbeed85d49a582dea3d549b794c389b
DTSTAMP:20260422T101359Z
SUMMARY:[Frauen Landesliga] EK Bernhausen  - CVJM SG Mössingen/Belsen 
URL:https://www.eichenkreuzliga.de/handball/game/id/9874
DTSTART:20191019T174500
DTEND:20191019T184500
LOCATION:Elisabeth-Selbert-Gymnasium Halle\, 70794 Bernhausen
END:VEVENT
BEGIN:VEVENT
UID:58706a2c27ed1c401a287fad48b5a2d1
DTSTAMP:20260422T101359Z
SUMMARY:[männliche C-Jugend Runde] EK Bernhausen  - CVJM  Walddorfhäslach
  
URL:https://www.eichenkreuzliga.de/handball/game/id/10371
DTSTART:20191019T144500
DTEND:20191019T154500
LOCATION:Elisabeth-Selbert-Gymnasium Halle\, 70794 Bernhausen
END:VEVENT
BEGIN:VEVENT
UID:88e6e7237bcc33dd012669fadeda9619
DTSTAMP:20260422T101359Z
SUMMARY:[männliche A-Jugend Runde] EK Bernhausen  - CVJM Möglingen 
URL:https://www.eichenkreuzliga.de/handball/game/id/10719
DTSTART:20191019T161500
DTEND:20191019T171500
LOCATION:Elisabeth-Selbert-Gymnasium Halle\, 70794 Bernhausen
END:VEVENT
BEGIN:VEVENT
UID:8ede1a02c06bb099324b7789f8277eec
DTSTAMP:20260422T101359Z
SUMMARY:[weibliche E-Jugend Runde] CVJM Kirchentellinsfurt  - CVJM HB Dußl
 ingen-Gomaringen 1
URL:https://www.eichenkreuzliga.de/handball/game/id/11136
DTSTART:20191019T132000
DTEND:20191019T142000
LOCATION:Elisabeth-Selbert-Gymnasium Halle\, 70794 Bernhausen
END:VEVENT
END:VCALENDAR
