BEGIN:VCALENDAR
PRODID:-//eluceo/ical//2.0/EN
VERSION:2.0
CALSCALE:GREGORIAN
BEGIN:VEVENT
UID:1d4105ca61046b8878c7003ffbc30424
DTSTAMP:20260422T101158Z
SUMMARY:[Frauen Landesliga] HSG Schönbuch  - CVJM Möglingen 
URL:https://www.eichenkreuzliga.de/handball/game/id/9880
DTSTART:20191109T143000
DTEND:20191109T153000
LOCATION:Schönbuch-Sporthalle\, 71088 Holzgerlingen
END:VEVENT
END:VCALENDAR
