BEGIN:VCALENDAR
PRODID:-//eluceo/ical//2.0/EN
VERSION:2.0
CALSCALE:GREGORIAN
BEGIN:VEVENT
UID:af9bb40845fdc86292d902ff06925f7b
DTSTAMP:20260422T101430Z
SUMMARY:[Frauen Landesliga] HSG Schönbuch  - CVJM HB Dußlingen-Gomaringen
  1
URL:https://www.eichenkreuzliga.de/handball/game/id/9881
DTSTART:20191201T150000
DTEND:20191201T160000
LOCATION:Schönbuch-Sporthalle\, 71088 Holzgerlingen
END:VEVENT
END:VCALENDAR
