BEGIN:VCALENDAR
PRODID:-//eluceo/ical//2.0/EN
VERSION:2.0
CALSCALE:GREGORIAN
BEGIN:VEVENT
UID:a505317ce285a2e23f5a5fee9c532589
DTSTAMP:20260422T083644Z
SUMMARY:[ ]   -  
URL:https://www.eichenkreuzliga.de/handball/game/id/9690
DTSTART:20191207T174500
DTEND:20191207T184500
LOCATION:Elisabeth-Selbert-Gymnasium Halle\, 70794 Bernhausen
END:VEVENT
BEGIN:VEVENT
UID:5dc8152b3a5650c1421ab3e9db08f35f
DTSTAMP:20260422T083644Z
SUMMARY:[weibliche D-Jugend Runde] EK Bernhausen  - CVJM HB Dußlingen-Goma
 ringen 1
URL:https://www.eichenkreuzliga.de/handball/game/id/9819
DTSTART:20191207T124000
DTEND:20191207T134000
LOCATION:Elisabeth-Selbert-Gymnasium Halle\, 70794 Bernhausen
END:VEVENT
BEGIN:VEVENT
UID:b12acdad0cd687beff93645ab4d8d1cc
DTSTAMP:20260422T083644Z
SUMMARY:[weibliche D-Jugend Runde] EK Bernhausen  - EJW Münchingen 
URL:https://www.eichenkreuzliga.de/handball/game/id/9820
DTSTART:20191207T000000
DTEND:20191207T010000
LOCATION:Elisabeth-Selbert-Gymnasium Halle\, 70794 Bernhausen
END:VEVENT
BEGIN:VEVENT
UID:f99f8ca5b214e31c715059bb3429be47
DTSTAMP:20260422T083644Z
SUMMARY:[weibliche D-Jugend Runde] CVJM HB Dußlingen-Gomaringen 1 - EJW M
 ünchingen 
URL:https://www.eichenkreuzliga.de/handball/game/id/9821
DTSTART:20191207T000000
DTEND:20191207T010000
LOCATION:Elisabeth-Selbert-Gymnasium Halle\, 70794 Bernhausen
END:VEVENT
BEGIN:VEVENT
UID:7ccfb6305f6204a7674d40364c151ce4
DTSTAMP:20260422T083644Z
SUMMARY:[ ]   -  
URL:https://www.eichenkreuzliga.de/handball/game/id/9822
DTSTART:20191207T132000
DTEND:20191207T142000
LOCATION:Elisabeth-Selbert-Gymnasium Halle\, 70794 Bernhausen
END:VEVENT
BEGIN:VEVENT
UID:ceb6698b0ea27ffd013653830d5b1a46
DTSTAMP:20260422T083644Z
SUMMARY:[Frauen Landesliga] EK Bernhausen  - CVJM Kirchentellinsfurt 
URL:https://www.eichenkreuzliga.de/handball/game/id/9876
DTSTART:20191207T154500
DTEND:20191207T164500
LOCATION:Elisabeth-Selbert-Gymnasium Halle\, 70794 Bernhausen
END:VEVENT
BEGIN:VEVENT
UID:d72083ed0384a48b80bc85f4a2f7cb0f
DTSTAMP:20260422T083644Z
SUMMARY:[weibliche B-Jugend Runde] EK Bernhausen  - CVJM Hülben 
URL:https://www.eichenkreuzliga.de/handball/game/id/10692
DTSTART:20191207T142000
DTEND:20191207T152000
LOCATION:Elisabeth-Selbert-Gymnasium Halle\, 70794 Bernhausen
END:VEVENT
BEGIN:VEVENT
UID:35dbde96c56d9e5b68851eb1f3c49067
DTSTAMP:20260422T083644Z
SUMMARY:[weibliche D-Jugend Runde] EK Bernhausen  - CVJM HB Dußlingen-Goma
 ringen 1
URL:https://www.eichenkreuzliga.de/handball/game/id/11155
DTSTART:20191207T133500
DTEND:20191207T143500
LOCATION:Elisabeth-Selbert-Gymnasium Halle\, 70794 Bernhausen
END:VEVENT
END:VCALENDAR
