BEGIN:VCALENDAR
PRODID:-//eluceo/ical//2.0/EN
VERSION:2.0
CALSCALE:GREGORIAN
BEGIN:VEVENT
UID:63c24a1535a9898370037ec6756d62c7
DTSTAMP:20260422T101010Z
SUMMARY:[ ]   -  
URL:https://www.eichenkreuzliga.de/handball/game/id/9692
DTSTART:20200111T194500
DTEND:20200111T204500
LOCATION:Elisabeth-Selbert-Gymnasium Halle\, 70794 Bernhausen
END:VEVENT
BEGIN:VEVENT
UID:eecbdcb9cf8f2667bfa2c4c41e09f791
DTSTAMP:20260422T101010Z
SUMMARY:[männliche E-Jugend Runde] EK Bernhausen 1 - CVJM SG Mössingen/Be
 lsen 
URL:https://www.eichenkreuzliga.de/handball/game/id/10017
DTSTART:20200111T120000
DTEND:20200111T130000
LOCATION:Elisabeth-Selbert-Gymnasium Halle\, 70794 Bernhausen
END:VEVENT
BEGIN:VEVENT
UID:e1ab227c19c5d22199b1e1e92c84be99
DTSTAMP:20260422T101010Z
SUMMARY:[männliche E-Jugend Runde] EK Bernhausen 1 - CVJM Hülben 
URL:https://www.eichenkreuzliga.de/handball/game/id/10018
DTSTART:20200111T134500
DTEND:20200111T144500
LOCATION:Elisabeth-Selbert-Gymnasium Halle\, 70794 Bernhausen
END:VEVENT
BEGIN:VEVENT
UID:208e3f772c19286c1314f9c783f9a5df
DTSTAMP:20260422T101010Z
SUMMARY:[männliche E-Jugend Runde] CVJM Hülben  - CVJM Plochingen a.K.
URL:https://www.eichenkreuzliga.de/handball/game/id/10019
DTSTART:20200111T123000
DTEND:20200111T133000
LOCATION:Elisabeth-Selbert-Gymnasium Halle\, 70794 Bernhausen
END:VEVENT
BEGIN:VEVENT
UID:5259d97211ad22211908a7e8e7b1bae5
DTSTAMP:20260422T101010Z
SUMMARY:[männliche E-Jugend Runde] CVJM Plochingen a.K. - CVJM SG Mössing
 en/Belsen 
URL:https://www.eichenkreuzliga.de/handball/game/id/10020
DTSTART:20200111T131500
DTEND:20200111T141500
LOCATION:Elisabeth-Selbert-Gymnasium Halle\, 70794 Bernhausen
END:VEVENT
BEGIN:VEVENT
UID:bc6532ff9da4c074759add12f6ea8a5c
DTSTAMP:20260422T101010Z
SUMMARY:[ ]   -  
URL:https://www.eichenkreuzliga.de/handball/game/id/10246
DTSTART:20200111T130000
DTEND:20200111T140000
LOCATION:Elisabeth-Selbert-Gymnasium Halle\, 70794 Bernhausen
END:VEVENT
BEGIN:VEVENT
UID:f32e289780297334a32504f1dce40608
DTSTAMP:20260422T101010Z
SUMMARY:[männliche C-Jugend Runde] EK Bernhausen  - EK Köngen 
URL:https://www.eichenkreuzliga.de/handball/game/id/10372
DTSTART:20200111T141500
DTEND:20200111T151500
LOCATION:Elisabeth-Selbert-Gymnasium Halle\, 70794 Bernhausen
END:VEVENT
BEGIN:VEVENT
UID:1cdd5c371547717b5a45d91952c45b06
DTSTAMP:20260422T101010Z
SUMMARY:[Männer LK 2] EK Bernhausen  - EK Köngen 1b
URL:https://www.eichenkreuzliga.de/handball/game/id/10593
DTSTART:20200111T170000
DTEND:20200111T180000
LOCATION:Elisabeth-Selbert-Gymnasium Halle\, 70794 Bernhausen
END:VEVENT
BEGIN:VEVENT
UID:8559c91776d2b60052cfd5be6d169c8f
DTSTAMP:20260422T101010Z
SUMMARY:[weibliche C-Jugend Runde] EK Bernhausen  - CVJM  Walddorfhäslach 
URL:https://www.eichenkreuzliga.de/handball/game/id/10816
DTSTART:20200111T153000
DTEND:20200111T163000
LOCATION:Elisabeth-Selbert-Gymnasium Halle\, 70794 Bernhausen
END:VEVENT
END:VCALENDAR
