BEGIN:VCALENDAR
PRODID:-//eluceo/ical//2.0/EN
VERSION:2.0
CALSCALE:GREGORIAN
BEGIN:VEVENT
UID:e221e9a2dc7fafd8a24024cce46b952e
DTSTAMP:20260422T092107Z
SUMMARY:[Frauen Landesliga] HSG Schönbuch  - EK Bernhausen 
URL:https://www.eichenkreuzliga.de/handball/game/id/9883
DTSTART:20200307T130000
DTEND:20200307T140000
LOCATION:Weiler Sportzentrum\, 71093 Weil im Schönbuch
END:VEVENT
BEGIN:VEVENT
UID:0378396e7cfe9b109350411f8850f6c9
DTSTAMP:20260422T092107Z
SUMMARY:[ ]   -  
URL:https://www.eichenkreuzliga.de/handball/game/id/9885
DTSTART:20200307T000000
DTEND:20200307T010000
LOCATION:Weiler Sportzentrum\, 71093 Weil im Schönbuch
END:VEVENT
END:VCALENDAR
