BEGIN:VCALENDAR
PRODID:-//eluceo/ical//2.0/EN
VERSION:2.0
CALSCALE:GREGORIAN
BEGIN:VEVENT
UID:d368e8e2996e683bdbc2402a42671570
DTSTAMP:20260422T090000Z
SUMMARY:[ ]   -  
URL:https://www.eichenkreuzliga.de/handball/game/id/9706
DTSTART:20191109T174500
DTEND:20191109T184500
LOCATION:Elisabeth-Selbert-Gymnasium Halle\, 70794 Bernhausen
END:VEVENT
BEGIN:VEVENT
UID:26094f72cb084e7148f9e545e6532e30
DTSTAMP:20260422T090000Z
SUMMARY:[ ]   -  
URL:https://www.eichenkreuzliga.de/handball/game/id/9707
DTSTART:20191109T194500
DTEND:20191109T204500
LOCATION:Elisabeth-Selbert-Gymnasium Halle\, 70794 Bernhausen
END:VEVENT
BEGIN:VEVENT
UID:1b79c25c8c4f59eff2991033855039a6
DTSTAMP:20260422T090000Z
SUMMARY:[Männer LK 2] EK Bernhausen  - CVJM Hülben 
URL:https://www.eichenkreuzliga.de/handball/game/id/10563
DTSTART:20191109T160000
DTEND:20191109T170000
LOCATION:Elisabeth-Selbert-Gymnasium Halle\, 70794 Bernhausen
END:VEVENT
END:VCALENDAR
