BEGIN:VCALENDAR
PRODID:-//eluceo/ical//2.0/EN
VERSION:2.0
CALSCALE:GREGORIAN
BEGIN:VEVENT
UID:fb5570493bbe1c00b6708f498ea52341
DTSTAMP:20260426T003427Z
SUMMARY:[Herren LK3] CVJM Renningen  - CVJM Heidenheim 
URL:https://www.eichenkreuzliga.de/fussball/game/id/9756
DTSTART:20191103T160000
DTEND:20191103T170000
LOCATION:\,  
END:VEVENT
BEGIN:VEVENT
UID:132340ac9c043cdd10c733b9d4f04210
DTSTAMP:20260426T003427Z
SUMMARY:[Herren LK3] FC Lutzenberg  - FC Doppelpass Pleidelsheim 
URL:https://www.eichenkreuzliga.de/fussball/game/id/9757
DTSTART:20191006T160000
DTEND:20191006T170000
LOCATION:\,  
END:VEVENT
END:VCALENDAR
