BEGIN:VCALENDAR
PRODID:-//eluceo/ical//2.0/EN
VERSION:2.0
CALSCALE:GREGORIAN
BEGIN:VEVENT
UID:3f63a280a3d9e11c15f96956eb62164e
DTSTAMP:20260426T003544Z
SUMMARY:[Herren LK3] CVJM Heidenheim  - CVJM Bernloch 
URL:https://www.eichenkreuzliga.de/fussball/game/id/9758
DTSTART:20191013T160000
DTEND:20191013T170000
LOCATION:\,  
END:VEVENT
BEGIN:VEVENT
UID:ce97ebab7ce20bd554cfe61009a753d4
DTSTAMP:20260426T003544Z
SUMMARY:[Herren LK3] CVJM Renningen  - FC Lutzenberg 
URL:https://www.eichenkreuzliga.de/fussball/game/id/9759
DTSTART:20191027T181500
DTEND:20191027T191500
LOCATION:\,  
END:VEVENT
END:VCALENDAR
