BEGIN:VCALENDAR
PRODID:-//eluceo/ical//2.0/EN
VERSION:2.0
CALSCALE:GREGORIAN
BEGIN:VEVENT
UID:a841c8a9bdc2b510f729060bd63061d1
DTSTAMP:20260426T003534Z
SUMMARY:[Herren LK3] CVJM Bernloch  - FC Doppelpass Pleidelsheim 
URL:https://www.eichenkreuzliga.de/fussball/game/id/9760
DTSTART:20200426T150000
DTEND:20200426T160000
LOCATION:\,  
END:VEVENT
BEGIN:VEVENT
UID:ba04e752a6cbd471a1c1c61206956959
DTSTAMP:20260426T003534Z
SUMMARY:[Herren LK3] FC Lutzenberg  - CVJM Heidenheim 
URL:https://www.eichenkreuzliga.de/fussball/game/id/9761
DTSTART:20191020T160000
DTEND:20191020T170000
LOCATION:\,  
END:VEVENT
END:VCALENDAR
