BEGIN:VCALENDAR
PRODID:-//eluceo/ical//2.0/EN
VERSION:2.0
CALSCALE:GREGORIAN
BEGIN:VEVENT
UID:46d169ed858014d91de26320e7ffce6c
DTSTAMP:20260426T003508Z
SUMMARY:[Herren LK3] FC Doppelpass Pleidelsheim  - CVJM Heidenheim 
URL:https://www.eichenkreuzliga.de/fussball/game/id/9762
DTSTART:20191027T150000
DTEND:20191027T160000
LOCATION:\,  
END:VEVENT
BEGIN:VEVENT
UID:34eb6c2aeb1e0ff30ccbe153f7f2e030
DTSTAMP:20260426T003508Z
SUMMARY:[Herren LK3] CVJM Bernloch  - CVJM Renningen 
URL:https://www.eichenkreuzliga.de/fussball/game/id/9763
DTSTART:20191020T150000
DTEND:20191020T160000
LOCATION:\,  
END:VEVENT
END:VCALENDAR
