BEGIN:VCALENDAR
PRODID:-//eluceo/ical//2.0/EN
VERSION:2.0
CALSCALE:GREGORIAN
BEGIN:VEVENT
UID:9eb02729883616d220863ed180d8df1e
DTSTAMP:20260422T104056Z
SUMMARY:[männliche E-Jugend Runde] CVJM SG Mössingen/Belsen  - EJW Münch
 ingen 
URL:https://www.eichenkreuzliga.de/handball/game/id/9971
DTSTART:20191012T130000
DTEND:20191012T140000
LOCATION:Ballspielhalle\, 72141 Walddorfhäslach
END:VEVENT
BEGIN:VEVENT
UID:2eef7945ec3e2991ad4abe0d6cbdf305
DTSTAMP:20260422T104056Z
SUMMARY:[männliche E-Jugend Runde] CVJM  Walddorfhäslach  - CVJM Enzweihi
 ngen 
URL:https://www.eichenkreuzliga.de/handball/game/id/9972
DTSTART:20191012T133000
DTEND:20191012T143000
LOCATION:Ballspielhalle\, 72141 Walddorfhäslach
END:VEVENT
BEGIN:VEVENT
UID:9dee1b62af70fc26069db3d720926077
DTSTAMP:20260422T104056Z
SUMMARY:[männliche E-Jugend Runde] CVJM Enzweihingen  - CVJM SG Mössingen
 /Belsen 
URL:https://www.eichenkreuzliga.de/handball/game/id/9973
DTSTART:20191012T141500
DTEND:20191012T151500
LOCATION:Ballspielhalle\, 72141 Walddorfhäslach
END:VEVENT
BEGIN:VEVENT
UID:523564dbaa526897ddf075b1f27af9cb
DTSTAMP:20260422T104056Z
SUMMARY:[männliche E-Jugend Runde] CVJM  Walddorfhäslach  - EJW Münching
 en 
URL:https://www.eichenkreuzliga.de/handball/game/id/9974
DTSTART:20191012T144500
DTEND:20191012T154500
LOCATION:Ballspielhalle\, 72141 Walddorfhäslach
END:VEVENT
BEGIN:VEVENT
UID:6b5004d4a04240bba9d1f4dce2622128
DTSTAMP:20260422T104056Z
SUMMARY:[ ]   -  
URL:https://www.eichenkreuzliga.de/handball/game/id/10231
DTSTART:20191012T140000
DTEND:20191012T150000
LOCATION:Ballspielhalle\, 72141 Walddorfhäslach
END:VEVENT
BEGIN:VEVENT
UID:e7b0ba30fb99f3fd2187ed9b9833fa4f
DTSTAMP:20260422T104056Z
SUMMARY:[männliche B-Jugend Runde] CVJM  Walddorfhäslach  - CVJM Hagelloc
 h SG Hagelloch/Kusterdingen
URL:https://www.eichenkreuzliga.de/handball/game/id/10853
DTSTART:20191012T153000
DTEND:20191012T163000
LOCATION:Ballspielhalle\, 72141 Walddorfhäslach
END:VEVENT
END:VCALENDAR
