BEGIN:VCALENDAR
PRODID:-//eluceo/ical//2.0/EN
VERSION:2.0
CALSCALE:GREGORIAN
BEGIN:VEVENT
UID:9dba11316c1d3ac0acd7e5c4dad74ea4
DTSTAMP:20260422T104056Z
SUMMARY:[männliche D-Jugend Runde] CVJM  Walddorfhäslach  - CVJM Mögling
 en 
URL:https://www.eichenkreuzliga.de/handball/game/id/9922
DTSTART:20191013T143000
DTEND:20191013T153000
LOCATION:Ballspielhalle\, 72141 Walddorfhäslach
END:VEVENT
BEGIN:VEVENT
UID:168ad237b1afd2b8de781597400e018b
DTSTAMP:20260422T104056Z
SUMMARY:[männliche D-Jugend Runde] CVJM  Walddorfhäslach  - CVJM Ploching
 en 
URL:https://www.eichenkreuzliga.de/handball/game/id/9923
DTSTART:20191013T130000
DTEND:20191013T140000
LOCATION:Ballspielhalle\, 72141 Walddorfhäslach
END:VEVENT
BEGIN:VEVENT
UID:e7dc8bf1d00cccb7cee2c0a541b56010
DTSTAMP:20260422T104056Z
SUMMARY:[männliche D-Jugend Runde] CVJM Möglingen  - CVJM Plochingen 
URL:https://www.eichenkreuzliga.de/handball/game/id/9924
DTSTART:20191013T161000
DTEND:20191013T171000
LOCATION:Ballspielhalle\, 72141 Walddorfhäslach
END:VEVENT
BEGIN:VEVENT
UID:fffffc95b48a5a3b044dd25d500058f9
DTSTAMP:20260422T104056Z
SUMMARY:[männliche D-Jugend Runde] CVJM Plochingen  - EK Köngen 
URL:https://www.eichenkreuzliga.de/handball/game/id/9925
DTSTART:20191013T151000
DTEND:20191013T161000
LOCATION:Ballspielhalle\, 72141 Walddorfhäslach
END:VEVENT
BEGIN:VEVENT
UID:17c21ff9533b2c5179c6a63e9153608f
DTSTAMP:20260422T104056Z
SUMMARY:[männliche D-Jugend Runde] CVJM Möglingen  - EK Köngen 
URL:https://www.eichenkreuzliga.de/handball/game/id/9926
DTSTART:20191013T134000
DTEND:20191013T144000
LOCATION:Ballspielhalle\, 72141 Walddorfhäslach
END:VEVENT
BEGIN:VEVENT
UID:e0a2f078f5ebaf57f647ed20f44da950
DTSTAMP:20260422T104056Z
SUMMARY:[männliche C-Jugend Runde] CVJM  Walddorfhäslach  - EK Höfingen 
URL:https://www.eichenkreuzliga.de/handball/game/id/10365
DTSTART:20191013T170000
DTEND:20191013T180000
LOCATION:Ballspielhalle\, 72141 Walddorfhäslach
END:VEVENT
BEGIN:VEVENT
UID:4f3902a7e0b285d6a412959f7d139b81
DTSTAMP:20260422T104056Z
SUMMARY:[ ]   -  
URL:https://www.eichenkreuzliga.de/handball/game/id/11073
DTSTART:20191013T141500
DTEND:20191013T151500
LOCATION:Ballspielhalle\, 72141 Walddorfhäslach
END:VEVENT
END:VCALENDAR
