BEGIN:VCALENDAR
PRODID:-//eluceo/ical//2.0/EN
VERSION:2.0
CALSCALE:GREGORIAN
BEGIN:VEVENT
UID:1cfbe45f68c3d6498bab1864c9ccadcc
DTSTAMP:20260422T092013Z
SUMMARY:[männliche E-Jugend Runde] CVJM Plochingen a.K. - CVJM Enzweihinge
 n 
URL:https://www.eichenkreuzliga.de/handball/game/id/9983
DTSTART:20191109T130000
DTEND:20191109T140000
LOCATION:Gymnasiumsporthalle\, 73207 Plochingen
END:VEVENT
BEGIN:VEVENT
UID:11b08c50d37eceaea8b72eaa7aa3beac
DTSTAMP:20260422T092013Z
SUMMARY:[männliche E-Jugend Runde] EJW Münchingen  - EK Bernhausen 1
URL:https://www.eichenkreuzliga.de/handball/game/id/9984
DTSTART:20191109T133000
DTEND:20191109T143000
LOCATION:Gymnasiumsporthalle\, 73207 Plochingen
END:VEVENT
BEGIN:VEVENT
UID:686b21965d5d2af110bc40dfb21e4ba8
DTSTAMP:20260422T092013Z
SUMMARY:[männliche E-Jugend Runde] CVJM Enzweihingen  - EK Bernhausen 1
URL:https://www.eichenkreuzliga.de/handball/game/id/9985
DTSTART:20191109T141500
DTEND:20191109T151500
LOCATION:Gymnasiumsporthalle\, 73207 Plochingen
END:VEVENT
BEGIN:VEVENT
UID:46636946d4567a8e7c6754ddbe352d2d
DTSTAMP:20260422T092013Z
SUMMARY:[männliche E-Jugend Runde] CVJM Plochingen a.K. - EJW Münchingen 
URL:https://www.eichenkreuzliga.de/handball/game/id/9986
DTSTART:20191109T144500
DTEND:20191109T154500
LOCATION:Gymnasiumsporthalle\, 73207 Plochingen
END:VEVENT
BEGIN:VEVENT
UID:b1c577b8d6b3b3e4eaa13bd97f215e76
DTSTAMP:20260422T092013Z
SUMMARY:[männliche A-Jugend Runde] CVJM Plochingen  - CVJM SG Mössingen/B
 elsen 
URL:https://www.eichenkreuzliga.de/handball/game/id/10772
DTSTART:20191109T153000
DTEND:20191109T163000
LOCATION:Gymnasiumsporthalle\, 73207 Plochingen
END:VEVENT
BEGIN:VEVENT
UID:c7ca30fedc1bafa6a0a539b1cbf2c2c2
DTSTAMP:20260422T092013Z
SUMMARY:[männliche B-Jugend Runde] CVJM Plochingen  - EJW Münchingen 
URL:https://www.eichenkreuzliga.de/handball/game/id/10866
DTSTART:20191109T170000
DTEND:20191109T180000
LOCATION:Gymnasiumsporthalle\, 73207 Plochingen
END:VEVENT
BEGIN:VEVENT
UID:9ce198b4b4522455b21bff4a5ef939eb
DTSTAMP:20260422T092013Z
SUMMARY:[ ]   -  
URL:https://www.eichenkreuzliga.de/handball/game/id/11051
DTSTART:20191109T140000
DTEND:20191109T150000
LOCATION:Gymnasiumsporthalle\, 73207 Plochingen
END:VEVENT
END:VCALENDAR
