BEGIN:VCALENDAR
PRODID:-//eluceo/ical//2.0/EN
VERSION:2.0
CALSCALE:GREGORIAN
BEGIN:VEVENT
UID:f4e1648aade5612d00e923e9d204bfab
DTSTAMP:20260422T110942Z
SUMMARY:[männliche D-Jugend Runde] CVJM  Walddorfhäslach  - EJW Münching
 en 
URL:https://www.eichenkreuzliga.de/handball/game/id/10191
DTSTART:20191208T130000
DTEND:20191208T140000
LOCATION:Ballspielhalle\, 72141 Walddorfhäslach
END:VEVENT
BEGIN:VEVENT
UID:3acb1a82fb8262973a81e7a14f838680
DTSTAMP:20260422T110942Z
SUMMARY:[männliche D-Jugend Runde] CVJM  Walddorfhäslach  - CVJM Fellbach
  
URL:https://www.eichenkreuzliga.de/handball/game/id/10193
DTSTART:20191208T144000
DTEND:20191208T154000
LOCATION:Ballspielhalle\, 72141 Walddorfhäslach
END:VEVENT
BEGIN:VEVENT
UID:9423d338d1a7f1a115e48865a109a2ff
DTSTAMP:20260422T110942Z
SUMMARY:[männliche D-Jugend Runde] EJW Münchingen  - EK Köngen 
URL:https://www.eichenkreuzliga.de/handball/game/id/10194
DTSTART:20191208T152000
DTEND:20191208T162000
LOCATION:Ballspielhalle\, 72141 Walddorfhäslach
END:VEVENT
BEGIN:VEVENT
UID:88f74f4a473bc33578f34141be1825bc
DTSTAMP:20260422T110942Z
SUMMARY:[männliche D-Jugend Runde] CVJM Fellbach  - EK Köngen 
URL:https://www.eichenkreuzliga.de/handball/game/id/10195
DTSTART:20191208T134000
DTEND:20191208T144000
LOCATION:Ballspielhalle\, 72141 Walddorfhäslach
END:VEVENT
BEGIN:VEVENT
UID:5330591d2f19b20849a85f43771e99e0
DTSTAMP:20260422T110942Z
SUMMARY:[ ]   -  
URL:https://www.eichenkreuzliga.de/handball/game/id/10273
DTSTART:20191208T142000
DTEND:20191208T152000
LOCATION:Ballspielhalle\, 72141 Walddorfhäslach
END:VEVENT
BEGIN:VEVENT
UID:94dd5500abf563fd9e7263496406ecb6
DTSTAMP:20260422T110942Z
SUMMARY:[Männer Pokalrunde] CVJM  Walddorfhäslach  - EK Bernhausen 
URL:https://www.eichenkreuzliga.de/handball/game/id/11142
DTSTART:20191208T180000
DTEND:20191208T190000
LOCATION:Ballspielhalle\, 72141 Walddorfhäslach
END:VEVENT
END:VCALENDAR
