BEGIN:VCALENDAR
PRODID:-//eluceo/ical//2.0/EN
VERSION:2.0
CALSCALE:GREGORIAN
BEGIN:VEVENT
UID:a9b4bf0f50bc12c2dbede28d0a36f847
DTSTAMP:20260422T044047Z
SUMMARY:[männliche D-Jugend Runde] CVJM Plochingen  - EK Bernhausen 1
URL:https://www.eichenkreuzliga.de/handball/game/id/10196
DTSTART:20191208T130000
DTEND:20191208T140000
LOCATION:Gymnasiumsporthalle\, 73207 Plochingen
END:VEVENT
BEGIN:VEVENT
UID:95523df284f29b3aaff329bb0ea08ee2
DTSTAMP:20260422T044047Z
SUMMARY:[männliche D-Jugend Runde] CVJM Kirchentellinsfurt a.K. - CVJM Mö
 glingen 
URL:https://www.eichenkreuzliga.de/handball/game/id/10197
DTSTART:20191208T134000
DTEND:20191208T144000
LOCATION:Gymnasiumsporthalle\, 73207 Plochingen
END:VEVENT
BEGIN:VEVENT
UID:bb8e472c4dd241dab22cefd5e8e4b3f8
DTSTAMP:20260422T044047Z
SUMMARY:[männliche D-Jugend Runde] CVJM Plochingen  - CVJM Kirchentellinsf
 urt a.K.
URL:https://www.eichenkreuzliga.de/handball/game/id/10198
DTSTART:20191208T152000
DTEND:20191208T162000
LOCATION:Gymnasiumsporthalle\, 73207 Plochingen
END:VEVENT
BEGIN:VEVENT
UID:27dbb1bdf52b433baee407035385c95d
DTSTAMP:20260422T044047Z
SUMMARY:[männliche D-Jugend Runde] CVJM Möglingen  - EK Bernhausen 1
URL:https://www.eichenkreuzliga.de/handball/game/id/10199
DTSTART:20191208T144000
DTEND:20191208T154000
LOCATION:Gymnasiumsporthalle\, 73207 Plochingen
END:VEVENT
BEGIN:VEVENT
UID:a762e344c32c437d47cd7583417d5db5
DTSTAMP:20260422T044047Z
SUMMARY:[ ]   -  
URL:https://www.eichenkreuzliga.de/handball/game/id/10275
DTSTART:20191208T142000
DTEND:20191208T152000
LOCATION:Gymnasiumsporthalle\, 73207 Plochingen
END:VEVENT
BEGIN:VEVENT
UID:81ce6b0594a40f0c14c95c8cb8fd312e
DTSTAMP:20260422T044047Z
SUMMARY:[männliche B-Jugend Runde] CVJM Plochingen  - CVJM Hagelloch SG Ha
 gelloch/Kusterdingen
URL:https://www.eichenkreuzliga.de/handball/game/id/10878
DTSTART:20191208T161500
DTEND:20191208T171500
LOCATION:Gymnasiumsporthalle\, 73207 Plochingen
END:VEVENT
BEGIN:VEVENT
UID:a3dfb36795fb2be1e2b3ffabb1d8d19a
DTSTAMP:20260422T044047Z
SUMMARY:[Männer LK 3] CVJM Plochingen  - CVJM Kirchentellinsfurt 1b
URL:https://www.eichenkreuzliga.de/handball/game/id/11066
DTSTART:20191208T174500
DTEND:20191208T184500
LOCATION:Gymnasiumsporthalle\, 73207 Plochingen
END:VEVENT
END:VCALENDAR
