BEGIN:VCALENDAR
PRODID:-//eluceo/ical//2.0/EN
VERSION:2.0
CALSCALE:GREGORIAN
BEGIN:VEVENT
UID:590ddde54d24a21ba62280641a7c1ec8
DTSTAMP:20260422T044046Z
SUMMARY:[weibliche A-Jugend Runde] CVJM  Walddorfhäslach  - CVJM Möglinge
 n 
URL:https://www.eichenkreuzliga.de/handball/game/id/10625
DTSTART:20191214T150000
DTEND:20191214T160000
LOCATION:Ballspielhalle\, 72141 Walddorfhäslach
END:VEVENT
BEGIN:VEVENT
UID:1f6b9135628faecafd5486bdef343f0f
DTSTAMP:20260422T044046Z
SUMMARY:[Männer LK 3] CVJM  Walddorfhäslach 2 - EK Wolfschlugen 
URL:https://www.eichenkreuzliga.de/handball/game/id/10980
DTSTART:20191214T170000
DTEND:20191214T180000
LOCATION:Ballspielhalle\, 72141 Walddorfhäslach
END:VEVENT
BEGIN:VEVENT
UID:f94d081da645e48c9fe4caafc600c895
DTSTAMP:20260422T044046Z
SUMMARY:[Männer Landesliga] CVJM  Walddorfhäslach  - CVJM SG Mössingen/B
 elsen 
URL:https://www.eichenkreuzliga.de/handball/game/id/11038
DTSTART:20191214T190000
DTEND:20191214T200000
LOCATION:Ballspielhalle\, 72141 Walddorfhäslach
END:VEVENT
BEGIN:VEVENT
UID:191b6bd35e1fe27cf0584fe1b4bda51d
DTSTAMP:20260422T044046Z
SUMMARY:[weibliche C-Jugend Runde] CVJM  Walddorfhäslach  - CVJM SG Mössi
 ngen/Belsen 
URL:https://www.eichenkreuzliga.de/handball/game/id/11058
DTSTART:20191214T133000
DTEND:20191214T143000
LOCATION:Ballspielhalle\, 72141 Walddorfhäslach
END:VEVENT
END:VCALENDAR
