BEGIN:VCALENDAR
PRODID:-//eluceo/ical//2.0/EN
VERSION:2.0
CALSCALE:GREGORIAN
BEGIN:VEVENT
UID:b64b64f23ecd74dcb6b42b469edaaa9a
DTSTAMP:20260422T092018Z
SUMMARY:[männliche D-Jugend Runde] CVJM HB Dußlingen-Gomaringen 1 - EK Be
 rnhausen 1
URL:https://www.eichenkreuzliga.de/handball/game/id/10209
DTSTART:20200119T132000
DTEND:20200119T142000
LOCATION:Härtensporthalle\, 72127 Kusterdingen
END:VEVENT
BEGIN:VEVENT
UID:ab1d37b652177aed1efab0e7d56aee03
DTSTAMP:20260422T092018Z
SUMMARY:[männliche D-Jugend Runde] CVJM Kusterdingen e.V.  - CVJM Kirchent
 ellinsfurt a.K.
URL:https://www.eichenkreuzliga.de/handball/game/id/10210
DTSTART:20200119T130000
DTEND:20200119T140000
LOCATION:Härtensporthalle\, 72127 Kusterdingen
END:VEVENT
BEGIN:VEVENT
UID:941a2e9fcb2de903aaa1f2a4fcb12f8a
DTSTAMP:20260422T092018Z
SUMMARY:[männliche D-Jugend Runde] CVJM HB Dußlingen-Gomaringen 1 - CVJM 
 Kirchentellinsfurt a.K.
URL:https://www.eichenkreuzliga.de/handball/game/id/10211
DTSTART:20200119T152000
DTEND:20200119T162000
LOCATION:Härtensporthalle\, 72127 Kusterdingen
END:VEVENT
BEGIN:VEVENT
UID:06ab7c042c6a27bff8a39b8f675b8663
DTSTAMP:20260422T092018Z
SUMMARY:[männliche D-Jugend Runde] CVJM Kusterdingen e.V.  - EK Bernhausen
  1
URL:https://www.eichenkreuzliga.de/handball/game/id/10212
DTSTART:20200119T144000
DTEND:20200119T154000
LOCATION:Härtensporthalle\, 72127 Kusterdingen
END:VEVENT
BEGIN:VEVENT
UID:c1c0ebc792d7d2ba98651ffcf5bdf316
DTSTAMP:20260422T092018Z
SUMMARY:[ ]   -  
URL:https://www.eichenkreuzliga.de/handball/game/id/10277
DTSTART:20200119T142000
DTEND:20200119T152000
LOCATION:Härtensporthalle\, 72127 Kusterdingen
END:VEVENT
END:VCALENDAR
