BEGIN:VCALENDAR
PRODID:-//eluceo/ical//2.0/EN
VERSION:2.0
CALSCALE:GREGORIAN
BEGIN:VEVENT
UID:16bd4489edeec05805a21a63eb810e62
DTSTAMP:20260422T092129Z
SUMMARY:[Männer Landesliga] CVJM  Walddorfhäslach  - EK Köngen 
URL:https://www.eichenkreuzliga.de/handball/game/id/10435
DTSTART:20200208T180000
DTEND:20200208T190000
LOCATION:Ballspielhalle\, 72141 Walddorfhäslach
END:VEVENT
END:VCALENDAR
