BEGIN:VCALENDAR
PRODID:-//eluceo/ical//2.0/EN
VERSION:2.0
CALSCALE:GREGORIAN
BEGIN:VEVENT
UID:b90ab00be69c374311db791c1515ca61
DTSTAMP:20260422T055325Z
SUMMARY:[männliche C-Jugend Runde] CVJM  Walddorfhäslach  - EJW Münching
 en 
URL:https://www.eichenkreuzliga.de/handball/game/id/10402
DTSTART:20200209T143000
DTEND:20200209T153000
LOCATION:Ballspielhalle\, 72141 Walddorfhäslach
END:VEVENT
BEGIN:VEVENT
UID:391f423ca0e834a42e56a3e9659220e1
DTSTAMP:20260422T055325Z
SUMMARY:[männliche B-Jugend Runde] CVJM  Walddorfhäslach  - CVJM Ploching
 en 
URL:https://www.eichenkreuzliga.de/handball/game/id/10882
DTSTART:20200209T160000
DTEND:20200209T170000
LOCATION:Ballspielhalle\, 72141 Walddorfhäslach
END:VEVENT
BEGIN:VEVENT
UID:72d0902658e28ef299c8b4f69ceba340
DTSTAMP:20260422T055325Z
SUMMARY:[Männer LK 3] CVJM  Walddorfhäslach 2 - EK Bernhausen 
URL:https://www.eichenkreuzliga.de/handball/game/id/10951
DTSTART:20200209T173000
DTEND:20200209T183000
LOCATION:Ballspielhalle\, 72141 Walddorfhäslach
END:VEVENT
END:VCALENDAR
