BEGIN:VCALENDAR
PRODID:-//eluceo/ical//2.0/EN
VERSION:2.0
CALSCALE:GREGORIAN
BEGIN:VEVENT
UID:f825b7195e55b4322e3bf7a26b673a84
DTSTAMP:20260422T044912Z
SUMMARY:[männliche A-Jugend Runde] CVJM Plochingen  - EK Köngen 
URL:https://www.eichenkreuzliga.de/handball/game/id/10773
DTSTART:20200215T150000
DTEND:20200215T160000
LOCATION:Gymnasiumsporthalle\, 73207 Plochingen
END:VEVENT
BEGIN:VEVENT
UID:51f5e2662fb74674b349fa21ff837741
DTSTAMP:20260422T044912Z
SUMMARY:[männliche B-Jugend Runde] CVJM Plochingen  - CVJM Fellbach 
URL:https://www.eichenkreuzliga.de/handball/game/id/10898
DTSTART:20200215T133000
DTEND:20200215T143000
LOCATION:Gymnasiumsporthalle\, 73207 Plochingen
END:VEVENT
BEGIN:VEVENT
UID:89df042dacac3e6edee4456ae7dabd13
DTSTAMP:20260422T044912Z
SUMMARY:[Männer LK 3] CVJM Plochingen  - EK Wolfschlugen 
URL:https://www.eichenkreuzliga.de/handball/game/id/10989
DTSTART:20200215T170000
DTEND:20200215T180000
LOCATION:Gymnasiumsporthalle\, 73207 Plochingen
END:VEVENT
END:VCALENDAR
