BEGIN:VCALENDAR
PRODID:-//eluceo/ical//2.0/EN
VERSION:2.0
CALSCALE:GREGORIAN
BEGIN:VEVENT
UID:4c4a77bedd522f7628aae924c9024a0c
DTSTAMP:20260422T140239Z
SUMMARY:[Männer Pokalrunde] SG Grunbach Winterbach  - EK Köngen 
URL:https://www.eichenkreuzliga.de/handball/game/id/11130
DTSTART:20191103T180000
DTEND:20191103T190000
LOCATION:Jahnhalle\, 73630 Grunbach
END:VEVENT
END:VCALENDAR
