BEGIN:VCALENDAR
PRODID:-//eluceo/ical//2.0/EN
VERSION:2.0
CALSCALE:GREGORIAN
BEGIN:VEVENT
UID:ed98b73a8e579c54936502714cfd13d0
DTSTAMP:20260422T110932Z
SUMMARY:[Frauen Landesliga] HSG Schönbuch  - CVJM Kirchentellinsfurt 
URL:https://www.eichenkreuzliga.de/handball/game/id/9879
DTSTART:20200215T100000
DTEND:20200215T110000
LOCATION:Weiler Sportzentrum\, 71093 Weil im Schönbuch
END:VEVENT
END:VCALENDAR
