BEGIN:VCALENDAR
PRODID:-//eluceo/ical//2.0/EN
VERSION:2.0
CALSCALE:GREGORIAN
BEGIN:VEVENT
UID:68616ed96bf2812ade50be76d1b9e797
DTSTAMP:20260422T140337Z
SUMMARY:[Männer Pokalrunde] CVJM Möglingen 1b - CVJM Plochingen 
URL:https://www.eichenkreuzliga.de/handball/game/id/11137
DTSTART:20191102T160000
DTEND:20191102T170000
LOCATION:Stadionhalle\, 71696 Möglingen
END:VEVENT
BEGIN:VEVENT
UID:5ba391df7d8984ab6740225e59a29d26
DTSTAMP:20260422T140337Z
SUMMARY:[Männer Pokalrunde] CVJM Möglingen HVW - CVJM Kirchentellinsfurt 
 Pokal
URL:https://www.eichenkreuzliga.de/handball/game/id/11138
DTSTART:20191102T190000
DTEND:20191102T200000
LOCATION:Stadionhalle\, 71696 Möglingen
END:VEVENT
END:VCALENDAR
