BEGIN:VCALENDAR
PRODID:-//eluceo/ical//2.0/EN
VERSION:2.0
CALSCALE:GREGORIAN
BEGIN:VEVENT
UID:f1d66ac44524faa8e40a77a8e7e97acb
DTSTAMP:20260422T140220Z
SUMMARY:[Männer Pokalrunde] EK Köngen 1c - CVJM SG Mössingen/Belsen 
URL:https://www.eichenkreuzliga.de/handball/game/id/11141
DTSTART:20191113T203000
DTEND:20191113T213000
LOCATION:Burgschulhalle\, 73257 Köngen
END:VEVENT
END:VCALENDAR
