BEGIN:VCALENDAR
PRODID:-//eluceo/ical//2.0/EN
VERSION:2.0
CALSCALE:GREGORIAN
BEGIN:VEVENT
UID:ced72544d4f7c7bbea08b8fbd8667ebd
DTSTAMP:20260422T140245Z
SUMMARY:[Männer Pokalrunde] CVJM Möglingen  - CVJM Hagelloch 2
URL:https://www.eichenkreuzliga.de/handball/game/id/11146
DTSTART:20191128T211500
DTEND:20191128T221500
LOCATION:Stadionhalle\, 71696 Möglingen
END:VEVENT
END:VCALENDAR
