BEGIN:VCALENDAR
PRODID:-//eluceo/ical//2.0/EN
VERSION:2.0
CALSCALE:GREGORIAN
BEGIN:VEVENT
UID:b0a79e057f2ed4558d5cd484b9f07ea3
DTSTAMP:20260426T003706Z
SUMMARY:[Herren LK3] CVJM Renningen  - FC Doppelpass Pleidelsheim 
URL:https://www.eichenkreuzliga.de/fussball/game/id/11212
DTSTART:20200328T000000
DTEND:20200328T010000
LOCATION:\,  
END:VEVENT
BEGIN:VEVENT
UID:f66ed82a896b1f4680a192eeac5e3436
DTSTAMP:20260426T003706Z
SUMMARY:[Herren LK3] FC Lutzenberg  - CVJM Bernloch 
URL:https://www.eichenkreuzliga.de/fussball/game/id/11213
DTSTART:20200510T160000
DTEND:20200510T170000
LOCATION:\,  
END:VEVENT
END:VCALENDAR
