BEGIN:VCALENDAR
PRODID:-//eluceo/ical//2.0/EN
VERSION:2.0
CALSCALE:GREGORIAN
BEGIN:VEVENT
UID:1de07725873d257ecf06f7997b4bef10
DTSTAMP:20260426T003615Z
SUMMARY:[Herren LK3] CVJM Bernloch  - CVJM Heidenheim 
URL:https://www.eichenkreuzliga.de/fussball/game/id/11216
DTSTART:20200503T150000
DTEND:20200503T160000
LOCATION:\,  
END:VEVENT
BEGIN:VEVENT
UID:076bcc06d6a21702efcec71cc0ea1f33
DTSTAMP:20260426T003615Z
SUMMARY:[Herren LK3] FC Lutzenberg  - CVJM Renningen 
URL:https://www.eichenkreuzliga.de/fussball/game/id/11217
DTSTART:20200419T170000
DTEND:20200419T180000
LOCATION:\,  
END:VEVENT
END:VCALENDAR
