BEGIN:VCALENDAR
PRODID:-//eluceo/ical//2.0/EN
VERSION:2.0
CALSCALE:GREGORIAN
BEGIN:VEVENT
UID:271210aaa34737e980a50e246ba524ca
DTSTAMP:20260426T003656Z
SUMMARY:[Herren LK3] FC Doppelpass Pleidelsheim  - CVJM Bernloch 
URL:https://www.eichenkreuzliga.de/fussball/game/id/11218
DTSTART:20200425T000000
DTEND:20200425T010000
LOCATION:\,  
END:VEVENT
BEGIN:VEVENT
UID:8eb58b7539a947d1d2b7f6f4bf49ef7c
DTSTAMP:20260426T003656Z
SUMMARY:[Herren LK3] CVJM Heidenheim  - FC Lutzenberg 
URL:https://www.eichenkreuzliga.de/fussball/game/id/11219
DTSTART:20200517T150000
DTEND:20200517T160000
LOCATION:\,  
END:VEVENT
END:VCALENDAR
