BEGIN:VCALENDAR
PRODID:-//eluceo/ical//2.0/EN
VERSION:2.0
CALSCALE:GREGORIAN
BEGIN:VEVENT
UID:bb7b459d21a72da16400a46781285d0f
DTSTAMP:20260426T003419Z
SUMMARY:[Herren LK3] CVJM Heidenheim  - FC Doppelpass Pleidelsheim 
URL:https://www.eichenkreuzliga.de/fussball/game/id/11220
DTSTART:20200419T150000
DTEND:20200419T160000
LOCATION:\,  
END:VEVENT
BEGIN:VEVENT
UID:3dc5e0e144325cfc5b70da5f662c51b7
DTSTAMP:20260426T003419Z
SUMMARY:[Herren LK3] CVJM Renningen  - CVJM Bernloch 
URL:https://www.eichenkreuzliga.de/fussball/game/id/11221
DTSTART:20200502T000000
DTEND:20200502T010000
LOCATION:\,  
END:VEVENT
END:VCALENDAR
