BEGIN:VCALENDAR
PRODID:-//eluceo/ical//2.0/EN
VERSION:2.0
CALSCALE:GREGORIAN
BEGIN:VEVENT
UID:e8943b6f91463f1a0c788604ed5ab81f
DTSTAMP:20260422T140220Z
SUMMARY:[Männer Pokalrunde] CVJM Möglingen  - CVJM Möglingen HVW
URL:https://www.eichenkreuzliga.de/handball/game/id/11265
DTSTART:20200127T204500
DTEND:20200127T214500
LOCATION:Stadionhalle\, 71696 Möglingen
END:VEVENT
END:VCALENDAR
