BEGIN:VCALENDAR
PRODID:-//eluceo/ical//2.0/EN
VERSION:2.0
CALSCALE:GREGORIAN
BEGIN:VEVENT
UID:05e90631fc9d04ffc8cd2469eb57e147
DTSTAMP:20260422T140350Z
SUMMARY:[Männer Pokalrunde] EK Köngen 1b - EK Bernhausen HVW
URL:https://www.eichenkreuzliga.de/handball/game/id/11266
DTSTART:20200219T200000
DTEND:20200219T210000
LOCATION:Burgschulhalle\, 73257 Köngen
END:VEVENT
END:VCALENDAR
