BEGIN:VCALENDAR
PRODID:-//eluceo/ical//2.0/EN
VERSION:2.0
CALSCALE:GREGORIAN
BEGIN:VEVENT
UID:194fcfbbca45283ee579f6b6b33f8fb7
DTSTAMP:20260422T140335Z
SUMMARY:[weibliche C-Jugend Runde] CVJM HB Dußlingen-Gomaringen 1 - EK Ber
 nhausen 
URL:https://www.eichenkreuzliga.de/handball/game/id/12357
DTSTART:20201017T000000
DTEND:20201017T010000
LOCATION:Hönisch Sporthalle\, 72144 Dusslingen
END:VEVENT
BEGIN:VEVENT
UID:38df7b3ade98b7a7dd5cad3aac03b170
DTSTAMP:20260422T140335Z
SUMMARY:[weibliche B-Jugend Runde] CVJM HB Dußlingen-Gomaringen  - CVJM H
 ülben 
URL:https://www.eichenkreuzliga.de/handball/game/id/12766
DTSTART:20201017T000000
DTEND:20201017T010000
LOCATION:Hönisch Sporthalle\, 72144 Dusslingen
END:VEVENT
BEGIN:VEVENT
UID:488d3c61441a561bc1b5d71f5fd81732
DTSTAMP:20260422T140335Z
SUMMARY:[männliche B-Jugend Runde] CVJM HB Dußlingen-Gomaringen  - CVJM H
 agelloch SG Hagelloch/Kusterdingen
URL:https://www.eichenkreuzliga.de/handball/game/id/12875
DTSTART:20201017T000000
DTEND:20201017T010000
LOCATION:Hönisch Sporthalle\, 72144 Dusslingen
END:VEVENT
BEGIN:VEVENT
UID:f828c0c475d1cfa0a67d848158ee1eda
DTSTAMP:20260422T140335Z
SUMMARY:[Männer LK4] CVJM HB Dußlingen-Gomaringen 2 - SG Grunbach Winterb
 ach 
URL:https://www.eichenkreuzliga.de/handball/game/id/13046
DTSTART:20201017T000000
DTEND:20201017T010000
LOCATION:Hönisch Sporthalle\, 72144 Dusslingen
END:VEVENT
END:VCALENDAR
