BEGIN:VCALENDAR
PRODID:-//eluceo/ical//2.0/EN
VERSION:2.0
CALSCALE:GREGORIAN
BEGIN:VEVENT
UID:f64eae221a89cb515681459d01b8d331
DTSTAMP:20260422T140245Z
SUMMARY:[ ]   -  
URL:https://www.eichenkreuzliga.de/handball/game/id/11374
DTSTART:20201018T170000
DTEND:20201018T180000
LOCATION:Hönisch Sporthalle\, 72144 Dusslingen
END:VEVENT
BEGIN:VEVENT
UID:4fd2d347a5732650ae585345a950218e
DTSTAMP:20260422T140245Z
SUMMARY:[männliche C-Jugend Runde] CVJM HB Dußlingen-Gomaringen 1 - CVJM 
 Hagelloch 
URL:https://www.eichenkreuzliga.de/handball/game/id/12788
DTSTART:20201018T000000
DTEND:20201018T010000
LOCATION:Hönisch Sporthalle\, 72144 Dusslingen
END:VEVENT
BEGIN:VEVENT
UID:b304851b9c98f4dd278de65a535f51cd
DTSTAMP:20260422T140245Z
SUMMARY:[männliche A-Jugend Runde] CVJM HB Dußlingen-Gomaringen  - EK Kö
 ngen 
URL:https://www.eichenkreuzliga.de/handball/game/id/12940
DTSTART:20201018T000000
DTEND:20201018T010000
LOCATION:Hönisch Sporthalle\, 72144 Dusslingen
END:VEVENT
END:VCALENDAR
