BEGIN:VCALENDAR
PRODID:-//eluceo/ical//2.0/EN
VERSION:2.0
CALSCALE:GREGORIAN
BEGIN:VEVENT
UID:6e4df7d006d99b63767af31efa6c7344
DTSTAMP:20260422T082512Z
SUMMARY:[männliche E-Jugend Runde] CVJM HB Dußlingen-Gomaringen 1 - CVJM 
 Plochingen a.K.
URL:https://www.eichenkreuzliga.de/handball/game/id/11389
DTSTART:20201107T155000
DTEND:20201107T165000
LOCATION:Hönisch Sporthalle\, 72144 Dusslingen
END:VEVENT
BEGIN:VEVENT
UID:3b9067da8c40cd5c6d59dc277aefb32b
DTSTAMP:20260422T082512Z
SUMMARY:[männliche E-Jugend Runde] CVJM HB Dußlingen-Gomaringen 2 A.K. - 
 CVJM SG Mössingen/Belsen 
URL:https://www.eichenkreuzliga.de/handball/game/id/11390
DTSTART:20201107T140000
DTEND:20201107T150000
LOCATION:Hönisch Sporthalle\, 72144 Dusslingen
END:VEVENT
BEGIN:VEVENT
UID:b570a887e181f319e652c0116a2e46d3
DTSTAMP:20260422T082512Z
SUMMARY:[männliche E-Jugend Runde] CVJM HB Dußlingen-Gomaringen 1 - CVJM 
 SG Mössingen/Belsen 
URL:https://www.eichenkreuzliga.de/handball/game/id/11391
DTSTART:20201107T131000
DTEND:20201107T141000
LOCATION:Hönisch Sporthalle\, 72144 Dusslingen
END:VEVENT
BEGIN:VEVENT
UID:09f88e5dc0dccfeb363148d80a9ac514
DTSTAMP:20260422T082512Z
SUMMARY:[männliche E-Jugend Runde] CVJM HB Dußlingen-Gomaringen 2 A.K. - 
 CVJM Plochingen a.K.
URL:https://www.eichenkreuzliga.de/handball/game/id/11392
DTSTART:20201107T145000
DTEND:20201107T155000
LOCATION:Hönisch Sporthalle\, 72144 Dusslingen
END:VEVENT
BEGIN:VEVENT
UID:59a70f210cd336bbe2ad631fcc1ae46f
DTSTAMP:20260422T082512Z
SUMMARY:[männliche E-Jugend Runde] CVJM HB Dußlingen-Gomaringen 2 A.K. - 
 CVJM HB Dußlingen-Gomaringen 1
URL:https://www.eichenkreuzliga.de/handball/game/id/11496
DTSTART:20201107T164000
DTEND:20201107T174000
LOCATION:Hönisch Sporthalle\, 72144 Dusslingen
END:VEVENT
BEGIN:VEVENT
UID:16cfe18bbd1027c55d8a29e155fe3646
DTSTAMP:20260422T082512Z
SUMMARY:[Männer LK4] CVJM HB Dußlingen-Gomaringen 2 - CVJM SG Mössingen/
 Belsen 1c
URL:https://www.eichenkreuzliga.de/handball/game/id/13026
DTSTART:20201107T180000
DTEND:20201107T190000
LOCATION:Hönisch Sporthalle\, 72144 Dusslingen
END:VEVENT
BEGIN:VEVENT
UID:af41e19aeb2894832dd992a05b980326
DTSTAMP:20260422T082512Z
SUMMARY:[ ]   -  
URL:https://www.eichenkreuzliga.de/handball/game/id/13063
DTSTART:20201107T153000
DTEND:20201107T163000
LOCATION:Hönisch Sporthalle\, 72144 Dusslingen
END:VEVENT
END:VCALENDAR
