BEGIN:VCALENDAR
PRODID:-//eluceo/ical//2.0/EN
VERSION:2.0
CALSCALE:GREGORIAN
BEGIN:VEVENT
UID:2224b141526bdde142d0b7535e41ae12
DTSTAMP:20260422T140351Z
SUMMARY:[weibliche D-Jugend Runde] CVJM HB Dußlingen-Gomaringen 1 - CVJM M
 öglingen 
URL:https://www.eichenkreuzliga.de/handball/game/id/11313
DTSTART:20201205T124000
DTEND:20201205T134000
LOCATION:Hönisch Sporthalle\, 72144 Dusslingen
END:VEVENT
BEGIN:VEVENT
UID:1e91d5f89a07fc1680bc7e873095ba6c
DTSTAMP:20260422T140351Z
SUMMARY:[weibliche E-Jugend Runde] CVJM HB Dußlingen-Gomaringen 1 - CVJM S
 G Mössingen/Belsen 
URL:https://www.eichenkreuzliga.de/handball/game/id/11364
DTSTART:20201205T111500
DTEND:20201205T121500
LOCATION:Hönisch Sporthalle\, 72144 Dusslingen
END:VEVENT
BEGIN:VEVENT
UID:9be5dfe3e20419155667491bc6c22e1c
DTSTAMP:20260422T140351Z
SUMMARY:[ ]   -  
URL:https://www.eichenkreuzliga.de/handball/game/id/11376
DTSTART:20201205T180000
DTEND:20201205T190000
LOCATION:Hönisch Sporthalle\, 72144 Dusslingen
END:VEVENT
BEGIN:VEVENT
UID:9bfb06bd09723aa71b0683e37d3d3e39
DTSTAMP:20260422T140351Z
SUMMARY:[weibliche B-Jugend Runde] CVJM HB Dußlingen-Gomaringen  - CVJM SG
  Mössingen/Belsen 
URL:https://www.eichenkreuzliga.de/handball/game/id/12774
DTSTART:20201205T141500
DTEND:20201205T151500
LOCATION:Hönisch Sporthalle\, 72144 Dusslingen
END:VEVENT
BEGIN:VEVENT
UID:fd48f31aa540e4c454fe6735b94931f6
DTSTAMP:20260422T140351Z
SUMMARY:[männliche A-Jugend Runde] CVJM HB Dußlingen-Gomaringen  - EK Ber
 nhausen 
URL:https://www.eichenkreuzliga.de/handball/game/id/12946
DTSTART:20201205T160000
DTEND:20201205T170000
LOCATION:Hönisch Sporthalle\, 72144 Dusslingen
END:VEVENT
BEGIN:VEVENT
UID:4d489b189c5cebf90a5009808b330f51
DTSTAMP:20260422T140351Z
SUMMARY:[Männer Landesliga] CVJM HB Dußlingen-Gomaringen  - CVJM  Walddor
 fhäslach 
URL:https://www.eichenkreuzliga.de/handball/game/id/13115
DTSTART:20201205T200000
DTEND:20201205T210000
LOCATION:Hönisch Sporthalle\, 72144 Dusslingen
END:VEVENT
END:VCALENDAR
