BEGIN:VCALENDAR
PRODID:-//eluceo/ical//2.0/EN
VERSION:2.0
CALSCALE:GREGORIAN
BEGIN:VEVENT
UID:8fea47cd2513e1a334529c693d3c6410
DTSTAMP:20260422T140220Z
SUMMARY:[Frauen Landesliga] CVJM HB Dußlingen-Gomaringen 1 - CVJM SG Möss
 ingen/Belsen 
URL:https://www.eichenkreuzliga.de/handball/game/id/11652
DTSTART:20201206T170000
DTEND:20201206T180000
LOCATION:Hönisch Sporthalle\, 72144 Dusslingen
END:VEVENT
BEGIN:VEVENT
UID:268dbe81807147f7f85e0cc14ed3f470
DTSTAMP:20260422T140220Z
SUMMARY:[weibliche C-Jugend Runde] CVJM HB Dußlingen-Gomaringen 1 - EJW M
 ünchingen 
URL:https://www.eichenkreuzliga.de/handball/game/id/12380
DTSTART:20201206T151500
DTEND:20201206T161500
LOCATION:Hönisch Sporthalle\, 72144 Dusslingen
END:VEVENT
BEGIN:VEVENT
UID:46951fb776aa871790f47fbe36f25486
DTSTAMP:20260422T140220Z
SUMMARY:[weibliche A-Jugend Runde] CVJM HB Dußlingen-Gomaringen  - CVJM SG
  Mössingen/Belsen 
URL:https://www.eichenkreuzliga.de/handball/game/id/12721
DTSTART:20201206T131500
DTEND:20201206T141500
LOCATION:Hönisch Sporthalle\, 72144 Dusslingen
END:VEVENT
END:VCALENDAR
