BEGIN:VCALENDAR
PRODID:-//eluceo/ical//2.0/EN
VERSION:2.0
CALSCALE:GREGORIAN
BEGIN:VEVENT
UID:1cd35d036a7720bdc3af264f6655cfbc
DTSTAMP:20260422T083713Z
SUMMARY:[männliche E-Jugend Runde] CVJM Hülben  - CVJM HB Dußlingen-Goma
 ringen 1
URL:https://www.eichenkreuzliga.de/handball/game/id/11497
DTSTART:20210207T130000
DTEND:20210207T140000
LOCATION:Hönisch Sporthalle\, 72144 Dusslingen
END:VEVENT
BEGIN:VEVENT
UID:254867c0ca9f99b5b96e914a6728da37
DTSTAMP:20260422T083713Z
SUMMARY:[männliche E-Jugend Runde] CVJM HB Dußlingen-Gomaringen 1 - CVJM 
 Kirchentellinsfurt 
URL:https://www.eichenkreuzliga.de/handball/game/id/11498
DTSTART:20210207T155000
DTEND:20210207T165000
LOCATION:Hönisch Sporthalle\, 72144 Dusslingen
END:VEVENT
BEGIN:VEVENT
UID:7da18e92ec96783ac849b39b119c1a97
DTSTAMP:20260422T083713Z
SUMMARY:[männliche E-Jugend Runde] CVJM Hülben  - CVJM HB Dußlingen-Goma
 ringen 2 A.K.
URL:https://www.eichenkreuzliga.de/handball/game/id/11499
DTSTART:20210207T135000
DTEND:20210207T145000
LOCATION:Hönisch Sporthalle\, 72144 Dusslingen
END:VEVENT
BEGIN:VEVENT
UID:e0181fb327d359d0967a5a6238b4b26d
DTSTAMP:20260422T083713Z
SUMMARY:[männliche E-Jugend Runde] CVJM HB Dußlingen-Gomaringen 2 A.K. - 
 CVJM Kirchentellinsfurt 
URL:https://www.eichenkreuzliga.de/handball/game/id/11500
DTSTART:20210207T150000
DTEND:20210207T160000
LOCATION:Hönisch Sporthalle\, 72144 Dusslingen
END:VEVENT
BEGIN:VEVENT
UID:0580ae7cc86f594937a4ee27c953111c
DTSTAMP:20260422T083713Z
SUMMARY:[weibliche C-Jugend Runde] CVJM HB Dußlingen-Gomaringen 1 - CVJM  
 Walddorfhäslach 
URL:https://www.eichenkreuzliga.de/handball/game/id/12374
DTSTART:20210207T165000
DTEND:20210207T175000
LOCATION:Hönisch Sporthalle\, 72144 Dusslingen
END:VEVENT
BEGIN:VEVENT
UID:0d38fe1ccacff5b2862b48a5891b1069
DTSTAMP:20260422T083713Z
SUMMARY:[Männer Landesliga] CVJM HB Dußlingen-Gomaringen  - EK Höfingen 
URL:https://www.eichenkreuzliga.de/handball/game/id/12540
DTSTART:20210207T183000
DTEND:20210207T193000
LOCATION:Hönisch Sporthalle\, 72144 Dusslingen
END:VEVENT
BEGIN:VEVENT
UID:eb6abed83f311d5dc70bf6ff022a07da
DTSTAMP:20260422T083713Z
SUMMARY:[ ]   -  
URL:https://www.eichenkreuzliga.de/handball/game/id/13067
DTSTART:20210207T144000
DTEND:20210207T154000
LOCATION:Hönisch Sporthalle\, 72144 Dusslingen
END:VEVENT
END:VCALENDAR
