BEGIN:VCALENDAR
PRODID:-//eluceo/ical//2.0/EN
VERSION:2.0
CALSCALE:GREGORIAN
BEGIN:VEVENT
UID:8ce68c763bf90b9d2b4f3799a799e2e6
DTSTAMP:20260422T111655Z
SUMMARY:[weibliche E-Jugend Runde] CVJM HB Dußlingen-Gomaringen 1 - CVJM K
 irchentellinsfurt 
URL:https://www.eichenkreuzliga.de/handball/game/id/11366
DTSTART:20210313T113000
DTEND:20210313T123000
LOCATION:Hönisch Sporthalle\, 72144 Dusslingen
END:VEVENT
BEGIN:VEVENT
UID:d9dbbbb806639e1e56a10dd7c723c920
DTSTAMP:20260422T111655Z
SUMMARY:[männliche E-Jugend Runde] CVJM  Walddorfhäslach  - CVJM HB Dußl
 ingen-Gomaringen 1
URL:https://www.eichenkreuzliga.de/handball/game/id/11491
DTSTART:20210313T125000
DTEND:20210313T135000
LOCATION:Hönisch Sporthalle\, 72144 Dusslingen
END:VEVENT
BEGIN:VEVENT
UID:b54981728a446a874b4f1d24885d41b8
DTSTAMP:20260422T111655Z
SUMMARY:[männliche E-Jugend Runde] CVJM  Walddorfhäslach  - CVJM HB Dußl
 ingen-Gomaringen 2 A.K.
URL:https://www.eichenkreuzliga.de/handball/game/id/11492
DTSTART:20210313T134000
DTEND:20210313T144000
LOCATION:Hönisch Sporthalle\, 72144 Dusslingen
END:VEVENT
BEGIN:VEVENT
UID:d730dd4644794b14317fcc3c63a3f65e
DTSTAMP:20260422T111655Z
SUMMARY:[männliche E-Jugend Runde] CVJM HB Dußlingen-Gomaringen 1 - CVJM 
 Enzweihingen 
URL:https://www.eichenkreuzliga.de/handball/game/id/11525
DTSTART:20210313T154000
DTEND:20210313T164000
LOCATION:Hönisch Sporthalle\, 72144 Dusslingen
END:VEVENT
BEGIN:VEVENT
UID:bf8a314faed6f45f313bab4df5660388
DTSTAMP:20260422T111655Z
SUMMARY:[männliche E-Jugend Runde] CVJM HB Dußlingen-Gomaringen 2 A.K. - 
 CVJM Enzweihingen 
URL:https://www.eichenkreuzliga.de/handball/game/id/11526
DTSTART:20210313T145000
DTEND:20210313T155000
LOCATION:Hönisch Sporthalle\, 72144 Dusslingen
END:VEVENT
BEGIN:VEVENT
UID:df6c366a2db3f071cacc2d05be915ba2
DTSTAMP:20260422T111655Z
SUMMARY:[männliche C-Jugend Runde] CVJM HB Dußlingen-Gomaringen 1 - EJW M
 ünchingen 
URL:https://www.eichenkreuzliga.de/handball/game/id/12847
DTSTART:20210313T164500
DTEND:20210313T174500
LOCATION:Hönisch Sporthalle\, 72144 Dusslingen
END:VEVENT
BEGIN:VEVENT
UID:a166c8757be0466b35a7cde0b73988c0
DTSTAMP:20260422T111655Z
SUMMARY:[männliche A-Jugend Runde] CVJM HB Dußlingen-Gomaringen  - CVJM F
 ellbach 
URL:https://www.eichenkreuzliga.de/handball/game/id/12956
DTSTART:20210313T183000
DTEND:20210313T193000
LOCATION:Hönisch Sporthalle\, 72144 Dusslingen
END:VEVENT
BEGIN:VEVENT
UID:a884ec10c667b9f8ee3cda39723dd11f
DTSTAMP:20260422T111655Z
SUMMARY:[weibliche C-Jugend Runde] CVJM HB Dußlingen-Gomaringen 1 - CVJM K
 irchentellinsfurt 
URL:https://www.eichenkreuzliga.de/handball/game/id/13078
DTSTART:20210313T100000
DTEND:20210313T110000
LOCATION:Hönisch Sporthalle\, 72144 Dusslingen
END:VEVENT
BEGIN:VEVENT
UID:b779a15d6593adb435b248c865220a7d
DTSTAMP:20260422T111655Z
SUMMARY:[ ]   -  
URL:https://www.eichenkreuzliga.de/handball/game/id/13141
DTSTART:20210313T143000
DTEND:20210313T153000
LOCATION:Hönisch Sporthalle\, 72144 Dusslingen
END:VEVENT
END:VCALENDAR
