BEGIN:VCALENDAR
PRODID:-//eluceo/ical//2.0/EN
VERSION:2.0
CALSCALE:GREGORIAN
BEGIN:VEVENT
UID:613d8d4f7cceac6e7ed4c5e94abb557e
DTSTAMP:20260422T140245Z
SUMMARY:[ ]   -  
URL:https://www.eichenkreuzliga.de/handball/game/id/11341
DTSTART:20210314T130000
DTEND:20210314T140000
LOCATION:Hönisch Sporthalle\, 72144 Dusslingen
END:VEVENT
BEGIN:VEVENT
UID:6292ef84b08e1c8ca12e5ea65d34de13
DTSTAMP:20260422T140245Z
SUMMARY:[Frauen Landesliga] CVJM HB Dußlingen-Gomaringen 1 - EK Bernhausen
  
URL:https://www.eichenkreuzliga.de/handball/game/id/11655
DTSTART:20210314T183000
DTEND:20210314T193000
LOCATION:Hönisch Sporthalle\, 72144 Dusslingen
END:VEVENT
END:VCALENDAR
