BEGIN:VCALENDAR
PRODID:-//eluceo/ical//2.0/EN
VERSION:2.0
CALSCALE:GREGORIAN
BEGIN:VEVENT
UID:8df0091c25864fc0777721dc890c1c61
DTSTAMP:20260422T140221Z
SUMMARY:[Frauen Landesliga] CVJM HB Dußlingen-Gomaringen 1 - CVJM Mögling
 en 
URL:https://www.eichenkreuzliga.de/handball/game/id/11628
DTSTART:20210418T183000
DTEND:20210418T193000
LOCATION:Hönisch Sporthalle\, 72144 Dusslingen
END:VEVENT
BEGIN:VEVENT
UID:38024c66dc109ca97c7ead1353179616
DTSTAMP:20260422T140221Z
SUMMARY:[weibliche B-Jugend Finalspiele] EK Testverein  - EK Testverein 
URL:https://www.eichenkreuzliga.de/handball/game/id/11671
DTSTART:20210418T130000
DTEND:20210418T140000
LOCATION:Hönisch Sporthalle\, 72144 Dusslingen
END:VEVENT
BEGIN:VEVENT
UID:4f1a2d3675127af0b3b3f26e66570fc2
DTSTAMP:20260422T140221Z
SUMMARY:[weibliche B-Jugend Finalspiele] EK Testverein  - EK Testverein 
URL:https://www.eichenkreuzliga.de/handball/game/id/11672
DTSTART:20210418T144500
DTEND:20210418T154500
LOCATION:Hönisch Sporthalle\, 72144 Dusslingen
END:VEVENT
BEGIN:VEVENT
UID:153c1425a961b14862ab5fbd3269dc83
DTSTAMP:20260422T140221Z
SUMMARY:[ ]   -  
URL:https://www.eichenkreuzliga.de/handball/game/id/11673
DTSTART:20210418T160000
DTEND:20210418T170000
LOCATION:Hönisch Sporthalle\, 72144 Dusslingen
END:VEVENT
BEGIN:VEVENT
UID:d0b62211920a7a9cf8ccb6a7fc865378
DTSTAMP:20260422T140221Z
SUMMARY:[männliche A-Jugend Runde] CVJM HB Dußlingen-Gomaringen  - CVJM  
 Walddorfhäslach 
URL:https://www.eichenkreuzliga.de/handball/game/id/12995
DTSTART:20210418T163000
DTEND:20210418T173000
LOCATION:Hönisch Sporthalle\, 72144 Dusslingen
END:VEVENT
END:VCALENDAR
